BEGIN:VCALENDAR
VERSION:2.0
PRODID:SchoolNow
CALSCALE:GREGORIAN
BEGIN:VEVENT
UID:6069e23a-620c-11ea-a889-0afb5420c8cf
DTSTAMP:20200501T130401Z
SUMMARY:District Wide Chess Tournament-Cancelled
LOCATION:Lincoln Elementary School\, 1111 S Grove
URL;VALUE=URI:https://www.op97.org/beye/calendar/2215611/district-wide-ches
 s-tournament
DTSTART:20200418T140000Z
DTEND:20200418T180000Z
END:VEVENT
END:VCALENDAR
