BEGIN:VCALENDAR
VERSION:2.0
PRODID:SchoolNow
CALSCALE:GREGORIAN
BEGIN:VEVENT
UID:4fc09892-6aeb-11ea-aeb8-12698356349d
DTSTAMP:20200320T204227Z
SUMMARY:Remote (E-Learning) Day
URL;VALUE=URI:https://www.op97.org/beye/calendar/2222929/remote-e-learning-
 day-032020
DTSTART;VALUE=DATE:20200320
DTEND;VALUE=DATE:20200321
END:VEVENT
END:VCALENDAR
