BEGIN:VCALENDAR
VERSION:2.0
PRODID:SchoolNow
CALSCALE:GREGORIAN
BEGIN:VEVENT
UID:40f6bc8c-6fa6-11ea-a404-0ac1d40d66ad
DTSTAMP:20200326T211043Z
SUMMARY:Meal Distribution for District 97 Students
LOCATION:Brooks Middle School and Longfellow Elementary School
URL;VALUE=URI:https://www.op97.org/beye/calendar/2225022/meal-distribution-
 for-district-97-students
DTSTART:20200330T153000Z
DTEND:20200330T183000Z
END:VEVENT
END:VCALENDAR
