BEGIN:VCALENDAR
VERSION:2.0
PRODID:SchoolNow
CALSCALE:GREGORIAN
BEGIN:VEVENT
UID:8bf323a6-7433-11ea-b9c4-0a04361d3d7f
DTSTAMP:20200401T161212Z
SUMMARY:Remote Learning
URL;VALUE=URI:https://www.op97.org/beye/calendar/2228159/remote-learning-cl
 one
DTSTART:20200402T130000Z
DTEND:20200402T200000Z
END:VEVENT
END:VCALENDAR
