BEGIN:VCALENDAR
VERSION:2.0
PRODID:SchoolNow
CALSCALE:GREGORIAN
BEGIN:VEVENT
UID:c53789cc-7433-11ea-881c-0a04361d3d7f
DTSTAMP:20200401T161348Z
SUMMARY:Remote Learning
URL;VALUE=URI:https://www.op97.org/beye/calendar/2228181/remote-learning-cl
 one
DTSTART:20200406T130000Z
DTEND:20200406T200000Z
END:VEVENT
END:VCALENDAR
