BEGIN:VCALENDAR
VERSION:2.0
PRODID:SchoolNow
CALSCALE:GREGORIAN
BEGIN:VEVENT
UID:3867512e-7435-11ea-babc-0a443af3b06d
DTSTAMP:20200401T162411Z
SUMMARY:Remote Learning
URL;VALUE=URI:https://www.op97.org/beye/calendar/2228266/remote-learning-cl
 one-clone-clone-clone-clone-clone-clone-clone-clone-clone
DTSTART:20200420T130000Z
DTEND:20200420T200000Z
END:VEVENT
END:VCALENDAR
