BEGIN:VCALENDAR
VERSION:2.0
PRODID:SchoolNow
CALSCALE:GREGORIAN
BEGIN:VEVENT
UID:70f4dc1e-7435-11ea-94da-0a443af3b06d
DTSTAMP:20200401T162546Z
SUMMARY:Remote Learning
URL;VALUE=URI:https://www.op97.org/beye/calendar/2228296/remote-learning-cl
 one-clone-clone-clone-clone-clone-clone-clone-clone-clone-clone-clone-clon
 e
DTSTART:20200423T130000Z
DTEND:20200423T200000Z
END:VEVENT
END:VCALENDAR
