BEGIN:VCALENDAR
VERSION:2.0
PRODID:SchoolNow
CALSCALE:GREGORIAN
BEGIN:VEVENT
UID:d579ae58-7435-11ea-8153-0a443af3b06d
DTSTAMP:20200401T162835Z
SUMMARY:Remote Learning
URL;VALUE=URI:https://www.op97.org/beye/calendar/2228349/remote-learning-cl
 one-clone-clone-clone-clone-clone-clone-clone-clone-clone-clone-clone-clon
 e-clone-clone-clone-clone-clone
DTSTART:20200430T130000Z
DTEND:20200430T200000Z
END:VEVENT
END:VCALENDAR
