BEGIN:VCALENDAR
VERSION:2.0
PRODID:SchoolNow
CALSCALE:GREGORIAN
BEGIN:VEVENT
UID:eecca814-8e08-11ea-a3d6-1277bb75a945
DTSTAMP:20200504T131240Z
SUMMARY:Remote Learning Planning Day (No Remote Learning for Students)
URL;VALUE=URI:https://www.op97.org/beye/calendar/2244124/remote-learning-cl
 one-clone-clone-clone-clone-clone-clone-clone-clone-clone-clone-clone-clon
 e-clone-clone
DTSTART:20200515T130000Z
DTEND:20200515T200000Z
END:VEVENT
END:VCALENDAR
