BEGIN:VCALENDAR
VERSION:2.0
PRODID:SchoolNow
CALSCALE:GREGORIAN
BEGIN:VEVENT
UID:5fbf2fec-9070-11ea-874d-1223079c1c4b
DTSTAMP:20200507T143810Z
SUMMARY:Remote Learning
URL;VALUE=URI:https://www.op97.org/beye/calendar/2245176/remote-learning-05
 0120
DTSTART;VALUE=DATE:20200501
DTEND;VALUE=DATE:20200502
END:VEVENT
END:VCALENDAR
