BEGIN:VCALENDAR
VERSION:2.0
PRODID:SchoolNow
CALSCALE:GREGORIAN
BEGIN:VEVENT
UID:9d0adba8-9070-11ea-ad02-1223079c1c4b
DTSTAMP:20200507T143953Z
SUMMARY:Remote Learning
URL;VALUE=URI:https://www.op97.org/beye/calendar/2245196/remote-learning-05
 0520
DTSTART;VALUE=DATE:20200505
DTEND;VALUE=DATE:20200506
END:VEVENT
END:VCALENDAR
