BEGIN:VCALENDAR
VERSION:2.0
PRODID:SchoolNow
CALSCALE:GREGORIAN
BEGIN:VEVENT
UID:b6a95544-9070-11ea-82fe-1223079c1c4b
DTSTAMP:20200507T144036Z
SUMMARY:Remote Learning
URL;VALUE=URI:https://www.op97.org/beye/calendar/2245216/remote-learning-05
 0720
DTSTART;VALUE=DATE:20200507
DTEND;VALUE=DATE:20200508
END:VEVENT
END:VCALENDAR
