BEGIN:VCALENDAR
VERSION:2.0
PRODID:SchoolNow
CALSCALE:GREGORIAN
BEGIN:VEVENT
UID:c0bb10f4-9070-11ea-a5af-1223079c1c4b
DTSTAMP:20200507T144053Z
SUMMARY:Remote Learning
URL;VALUE=URI:https://www.op97.org/beye/calendar/2245226/remote-learning-05
 1120
DTSTART;VALUE=DATE:20200511
DTEND;VALUE=DATE:20200512
END:VEVENT
END:VCALENDAR
