BEGIN:VCALENDAR
VERSION:2.0
PRODID:SchoolNow
CALSCALE:GREGORIAN
BEGIN:VEVENT
UID:1b6050cc-9072-11ea-981f-0a7f3aa383dd
DTSTAMP:20200507T145034Z
SUMMARY:Remote Learning
URL;VALUE=URI:https://www.op97.org/beye/calendar/2245278/remote-learning-05
 1420
DTSTART;VALUE=DATE:20200514
DTEND;VALUE=DATE:20200515
END:VEVENT
END:VCALENDAR
