BEGIN:VCALENDAR
VERSION:2.0
PRODID:SchoolNow
CALSCALE:GREGORIAN
BEGIN:VEVENT
UID:31bb3d64-9072-11ea-9a93-0a7f3aa383dd
DTSTAMP:20200507T145112Z
SUMMARY:Remote Learning
URL;VALUE=URI:https://www.op97.org/beye/calendar/2245298/remote-learning-05
 1920
DTSTART;VALUE=DATE:20200519
DTEND;VALUE=DATE:20200520
END:VEVENT
END:VCALENDAR
