BEGIN:VCALENDAR
VERSION:2.0
PRODID:SchoolNow
CALSCALE:GREGORIAN
BEGIN:VEVENT
UID:5073ea08-9072-11ea-84d8-0a7f3aa383dd
DTSTAMP:20200507T145203Z
SUMMARY:Remote Learning
URL;VALUE=URI:https://www.op97.org/beye/calendar/2245328/remote-learning-05
 2620
DTSTART;VALUE=DATE:20200526
DTEND;VALUE=DATE:20200527
END:VEVENT
END:VCALENDAR
