BEGIN:VCALENDAR
VERSION:2.0
PRODID:SchoolNow
CALSCALE:GREGORIAN
BEGIN:VEVENT
UID:f2becf76-9072-11ea-aab9-0a90fb541611
DTSTAMP:20200507T145636Z
SUMMARY:Remote Learning
URL;VALUE=URI:https://www.op97.org/beye/calendar/2245364/remote-learning-05
 2920
DTSTART;VALUE=DATE:20200529
DTEND;VALUE=DATE:20200530
END:VEVENT
END:VCALENDAR
