BEGIN:VCALENDAR
VERSION:2.0
PRODID:SchoolNow
CALSCALE:GREGORIAN
BEGIN:VEVENT
UID:fcbf2d40-9072-11ea-afd1-0a90fb541611
DTSTAMP:20200507T145652Z
SUMMARY:Remote Learning
URL;VALUE=URI:https://www.op97.org/beye/calendar/2245374/remote-learning-06
 0120
DTSTART;VALUE=DATE:20200601
DTEND;VALUE=DATE:20200602
END:VEVENT
END:VCALENDAR
