BEGIN:VCALENDAR
VERSION:2.0
PRODID:SchoolNow
CALSCALE:GREGORIAN
BEGIN:VEVENT
UID:083695aa-9073-11ea-96ab-0a90fb541611
DTSTAMP:20200507T145712Z
SUMMARY:Remote Learning
URL;VALUE=URI:https://www.op97.org/beye/calendar/2245384/remote-learning-06
 0220
DTSTART;VALUE=DATE:20200602
DTEND;VALUE=DATE:20200603
END:VEVENT
END:VCALENDAR
