BEGIN:VCALENDAR
VERSION:2.0
PRODID:SchoolNow
CALSCALE:GREGORIAN
BEGIN:VEVENT
UID:0f92b3ba-9073-11ea-9e6b-0a90fb541611
DTSTAMP:20200507T145724Z
SUMMARY:Remote Learning
URL;VALUE=URI:https://www.op97.org/beye/calendar/2245394/remote-learning-06
 0320
DTSTART;VALUE=DATE:20200603
DTEND;VALUE=DATE:20200604
END:VEVENT
END:VCALENDAR
