BEGIN:VCALENDAR
VERSION:2.0
PRODID:SchoolNow
CALSCALE:GREGORIAN
BEGIN:VEVENT
UID:a1d33eae-a4df-11ea-89c6-0a7e23887f9f
DTSTAMP:20200602T203635Z
SUMMARY:Institute Day for Staff
URL;VALUE=URI:https://www.op97.org/beye/calendar/2255609/institute-day-for-
 staff
DTSTART:20200605T130000Z
DTEND:20200605T200000Z
END:VEVENT
END:VCALENDAR
