BEGIN:VCALENDAR
VERSION:2.0
PRODID:SchoolNow
CALSCALE:GREGORIAN
BEGIN:VEVENT
UID:d68529b8-ba25-11ea-84e9-1284b9ea766f
DTSTAMP:20200629T163026Z
SUMMARY:No School - Indigenous People's Day
URL;VALUE=URI:https://www.op97.org/beye/calendar/2270557/no-school-indigeno
 us-peoples-day
DTSTART;VALUE=DATE:20201012
DTEND;VALUE=DATE:20201013
END:VEVENT
END:VCALENDAR
