BEGIN:VCALENDAR
VERSION:2.0
PRODID:SchoolNow
CALSCALE:GREGORIAN
BEGIN:VEVENT
UID:eaccbee0-ba25-11ea-ac84-1284b9ea766f
DTSTAMP:20200629T163100Z
SUMMARY:No School - Martin Luther King's Birthday
URL;VALUE=URI:https://www.op97.org/beye/calendar/2270567/no-school-martin-l
 uther-kings-birthday
DTSTART;VALUE=DATE:20210118
DTEND;VALUE=DATE:20210119
END:VEVENT
END:VCALENDAR
