BEGIN:VCALENDAR
VERSION:2.0
PRODID:SchoolNow
CALSCALE:GREGORIAN
BEGIN:VEVENT
UID:4cb0b102-ba26-11ea-ac97-0a7d85804c09
DTSTAMP:20200915T154343Z
SUMMARY:Report Card Distribution for Trimester 1
URL;VALUE=URI:https://www.op97.org/beye/calendar/2270597/report-card-distri
 bution-for-trimester-one
DTSTART;VALUE=DATE:20201211
DTEND;VALUE=DATE:20201212
END:VEVENT
END:VCALENDAR
