BEGIN:VCALENDAR
VERSION:2.0
PRODID:SchoolNow
CALSCALE:GREGORIAN
BEGIN:VEVENT
UID:919b62b2-ba26-11ea-a42b-1284b9ea766f
DTSTAMP:20201110T201115Z
SUMMARY:No School- Thanksgiving Break
URL;VALUE=URI:https://www.op97.org/beye/calendar/2270617/no-school-thanksgi
 ving-break
DTSTART;VALUE=DATE:20201125
DTEND;VALUE=DATE:20201128
END:VEVENT
END:VCALENDAR
