BEGIN:VCALENDAR
VERSION:2.0
PRODID:SchoolNow
CALSCALE:GREGORIAN
BEGIN:VEVENT
UID:9e47bdc6-ba26-11ea-9df4-1284b9ea766f
DTSTAMP:20201110T201025Z
SUMMARY:No School - Winter Break
URL;VALUE=URI:https://www.op97.org/beye/calendar/2270627/no-school-winter-b
 reak
DTSTART;VALUE=DATE:20201224
DTEND;VALUE=DATE:20210109
END:VEVENT
END:VCALENDAR
