BEGIN:VCALENDAR
VERSION:2.0
PRODID:SchoolNow
CALSCALE:GREGORIAN
BEGIN:VEVENT
UID:4ff00858-dcc3-11ea-87ef-127f48c8fab3
DTSTAMP:20200812T174359Z
SUMMARY:Beye Device Pickup K-3 students
URL;VALUE=URI:https://www.op97.org/beye/calendar/2305061/beye-device-pickup
 -k-3-students
DTSTART:20200826T151000Z
DTEND:20200826T161000Z
END:VEVENT
END:VCALENDAR
