BEGIN:VCALENDAR
VERSION:2.0
PRODID:SchoolNow
CALSCALE:GREGORIAN
BEGIN:VEVENT
UID:8ae92f08-dce0-11ea-92f1-0aa758d325d7
DTSTAMP:20200812T211234Z
SUMMARY:Principal Coffee
URL;VALUE=URI:https://www.op97.org/beye/calendar/2305226/principal-coffee
DTSTART:20200814T133000Z
DTEND:20200814T143000Z
END:VEVENT
END:VCALENDAR
