BEGIN:VCALENDAR
VERSION:2.0
PRODID:SchoolNow
CALSCALE:GREGORIAN
BEGIN:VEVENT
UID:1058b8ce-f2db-11ea-9965-122b39c516e9
DTSTAMP:20200909T202847Z
SUMMARY:Beye School PTO General Membership Meeting
URL;VALUE=URI:https://www.op97.org/beye/calendar/2343674/beye-school-pto-ge
 neral-membership-meeting
DTSTART:20200926T140000Z
DTEND:20200926T160000Z
END:VEVENT
END:VCALENDAR
