BEGIN:VCALENDAR
VERSION:2.0
PRODID:SchoolNow
CALSCALE:GREGORIAN
BEGIN:VEVENT
UID:829f4da8-f2db-11ea-9bf5-0aab710249ed
DTSTAMP:20200910T191103Z
SUMMARY:Parent Coffee with Mrs. Schemidt
URL;VALUE=URI:https://www.op97.org/beye/calendar/2343675/parent-coffee-with
 -mrs-shemidt
DTSTART:20200911T131500Z
DTEND:20200911T141500Z
END:VEVENT
END:VCALENDAR
