BEGIN:VCALENDAR
VERSION:2.0
PRODID:SchoolNow
CALSCALE:GREGORIAN
BEGIN:VEVENT
UID:9fb677c2-f6a5-11ea-8ec3-0a19f4b3c3d9
DTSTAMP:20200914T161619Z
SUMMARY:D97 Meal Distribution
URL;VALUE=URI:https://www.op97.org/beye/calendar/2353762/meal-distribution-
 09152020
DTSTART:20200915T153000Z
DTEND:20200915T180000Z
END:VEVENT
END:VCALENDAR
