BEGIN:VCALENDAR
VERSION:2.0
PRODID:SchoolNow
CALSCALE:GREGORIAN
BEGIN:VEVENT
UID:c17dff88-f6a5-11ea-9b1c-0a19f4b3c3d9
DTSTAMP:20200914T161716Z
SUMMARY:D97 Meal Distribution
URL;VALUE=URI:https://www.op97.org/beye/calendar/2353794/meal-distribution-
 100620
DTSTART:20201006T153000Z
DTEND:20201006T180000Z
END:VEVENT
END:VCALENDAR
