BEGIN:VCALENDAR
VERSION:2.0
PRODID:SchoolNow
CALSCALE:GREGORIAN
BEGIN:VEVENT
UID:05e45f0a-f6a6-11ea-849c-0a19f4b3c3d9
DTSTAMP:20201110T200147Z
SUMMARY:D97 Meal Distribution
URL;VALUE=URI:https://www.op97.org/beye/calendar/2353854/meal-distribution-
 111720
DTSTART:20201117T163000Z
DTEND:20201117T190000Z
END:VEVENT
END:VCALENDAR
