BEGIN:VCALENDAR
VERSION:2.0
PRODID:SchoolNow
CALSCALE:GREGORIAN
BEGIN:VEVENT
UID:0dc9684e-f76b-11ea-ba41-12cf10543c59
DTSTAMP:20201209T035442Z
SUMMARY:Half Day (AM Only)
URL;VALUE=URI:https://www.op97.org/beye/calendar/2355833/parent-teacher-con
 ferences-half-day-am-only-122320
DTSTART:20201223T130000Z
DTEND:20201223T170000Z
END:VEVENT
END:VCALENDAR
