BEGIN:VCALENDAR
VERSION:2.0
PRODID:SchoolNow
CALSCALE:GREGORIAN
BEGIN:VEVENT
UID:40f728c4-073c-11eb-9c87-0a97d83bc309
DTSTAMP:20201005T185521Z
SUMMARY:Wacky Wednesday\, Backwards Day! (Beye)
URL;VALUE=URI:https://www.op97.org/beye/calendar/2417880/wacky-wednesday-ba
 ckwards-day-beye
DTSTART;VALUE=DATE:20201007
DTEND;VALUE=DATE:20201008
END:VEVENT
END:VCALENDAR
