BEGIN:VCALENDAR
VERSION:2.0
PRODID:SchoolNow
CALSCALE:GREGORIAN
BEGIN:VEVENT
UID:c9d93d30-073c-11eb-b991-0a97d83bc309
DTSTAMP:20201005T193954Z
SUMMARY:Library and Supply Pick up (Beye)
URL;VALUE=URI:https://www.op97.org/beye/calendar/2417881/library-and-supply
 -pick-up-beye
DTSTART;VALUE=DATE:20201013
DTEND;VALUE=DATE:20201014
END:VEVENT
END:VCALENDAR
