BEGIN:VCALENDAR
VERSION:2.0
PRODID:SchoolNow
CALSCALE:GREGORIAN
BEGIN:VEVENT
UID:d9733aa2-073c-11eb-b8d0-0a97d83bc309
DTSTAMP:20201005T194002Z
SUMMARY:Library and Supply Pick up (Beye)
URL;VALUE=URI:https://www.op97.org/beye/calendar/2417882/library-and-supply
 -pick-up-beye-clone
DTSTART;VALUE=DATE:20201014
DTEND;VALUE=DATE:20201015
END:VEVENT
END:VCALENDAR
