BEGIN:VCALENDAR
VERSION:2.0
PRODID:SchoolNow
CALSCALE:GREGORIAN
BEGIN:VEVENT
UID:e41f49f0-073c-11eb-9e01-0a97d83bc309
DTSTAMP:20201005T194013Z
SUMMARY:Library and Supply Pick up (Beye)
URL;VALUE=URI:https://www.op97.org/beye/calendar/2417883/library-and-supply
 -pick-up-beye-clone-clone
DTSTART;VALUE=DATE:20201015
DTEND;VALUE=DATE:20201016
END:VEVENT
END:VCALENDAR
