BEGIN:VCALENDAR
VERSION:2.0
PRODID:SchoolNow
CALSCALE:GREGORIAN
BEGIN:VEVENT
UID:026bd20c-073d-11eb-868d-0a97d83bc309
DTSTAMP:20201005T190017Z
SUMMARY:Wacky Wednesday\, Favorite Color Day! (Beye)
URL;VALUE=URI:https://www.op97.org/beye/calendar/2417884/wacky-wednesday-fa
 vorite-color-day-beye
DTSTART;VALUE=DATE:20201021
DTEND;VALUE=DATE:20201022
END:VEVENT
END:VCALENDAR
