BEGIN:VCALENDAR
VERSION:2.0
PRODID:SchoolNow
CALSCALE:GREGORIAN
BEGIN:VEVENT
UID:1977f926-073d-11eb-b6a5-0a97d83bc309
DTSTAMP:20201005T190056Z
SUMMARY:Wacky Wednesday\, Hat Day! (Beye)
URL;VALUE=URI:https://www.op97.org/beye/calendar/2417885/wacky-wednesday-ha
 t-day-beye
DTSTART;VALUE=DATE:20201014
DTEND;VALUE=DATE:20201015
END:VEVENT
END:VCALENDAR
