BEGIN:VCALENDAR
VERSION:2.0
PRODID:SchoolNow
CALSCALE:GREGORIAN
BEGIN:VEVENT
UID:948d9a30-073d-11eb-b806-0a97d83bc309
DTSTAMP:20201018T214143Z
SUMMARY:Fall Parent Teacher Conferences (Remote Learning till 11a)
URL;VALUE=URI:https://www.op97.org/beye/calendar/2417886/fall-parent-teache
 r-conferences-remote-learning-till-11-10
DTSTART;VALUE=DATE:20201022
DTEND;VALUE=DATE:20201023
END:VEVENT
END:VCALENDAR
