BEGIN:VCALENDAR
VERSION:2.0
PRODID:SchoolNow
CALSCALE:GREGORIAN
BEGIN:VEVENT
UID:b68503ee-073d-11eb-94e7-0a97d83bc309
DTSTAMP:20201018T214156Z
SUMMARY:Fall Parent Teacher Conferences (Remote Learning till 11)
URL;VALUE=URI:https://www.op97.org/beye/calendar/2417887/fall-parent-teache
 r-conferences-remote-learning-till-11-10-clone
DTSTART;VALUE=DATE:20201023
DTEND;VALUE=DATE:20201024
END:VEVENT
END:VCALENDAR
