BEGIN:VCALENDAR
VERSION:2.0
PRODID:SchoolNow
CALSCALE:GREGORIAN
BEGIN:VEVENT
UID:48c975f2-0741-11eb-a813-12de8eeb7235
DTSTAMP:20201005T193054Z
SUMMARY:Wacky Wednesday\, Pajama Day! (Beye)
URL;VALUE=URI:https://www.op97.org/beye/calendar/2418041/wacky-wednesday-fa
 vorite-color-day-beye-clone
DTSTART;VALUE=DATE:20201028
DTEND;VALUE=DATE:20201029
END:VEVENT
END:VCALENDAR
