BEGIN:VCALENDAR
VERSION:2.0
PRODID:SchoolNow
CALSCALE:GREGORIAN
BEGIN:VEVENT
UID:9741700e-0741-11eb-a35f-12de8eeb7235
DTSTAMP:20201005T193305Z
SUMMARY:Wacky Wednesday\, Favorite Team Day! (Beye)
URL;VALUE=URI:https://www.op97.org/beye/calendar/2418105/wacky-wednesday-fa
 vorite-color-day-beye-clone-clone
DTSTART;VALUE=DATE:20201104
DTEND;VALUE=DATE:20201105
END:VEVENT
END:VCALENDAR
