BEGIN:VCALENDAR
VERSION:2.0
PRODID:SchoolNow
CALSCALE:GREGORIAN
BEGIN:VEVENT
UID:ba808190-0741-11eb-b8af-12de8eeb7235
DTSTAMP:20201005T193517Z
SUMMARY:Wacky Wednesday\, Crazy Hair Day! (Beye)
URL;VALUE=URI:https://www.op97.org/beye/calendar/2418106/wacky-wednesday-fa
 vorite-color-day-beye-clone-clone-clone
DTSTART;VALUE=DATE:20201111
DTEND;VALUE=DATE:20201112
END:VEVENT
END:VCALENDAR
