BEGIN:VCALENDAR
VERSION:2.0
PRODID:SchoolNow
CALSCALE:GREGORIAN
BEGIN:VEVENT
UID:de360448-0741-11eb-9151-12de8eeb7235
DTSTAMP:20201005T193550Z
SUMMARY:Wacky Wednesday\, Grateful/Thankful Day! (Beye)
URL;VALUE=URI:https://www.op97.org/beye/calendar/2418107/wacky-wednesday-fa
 vorite-color-day-beye-clone-clone-clone-clone
DTSTART;VALUE=DATE:20201118
DTEND;VALUE=DATE:20201119
END:VEVENT
END:VCALENDAR
