BEGIN:VCALENDAR
VERSION:2.0
PRODID:SchoolNow
CALSCALE:GREGORIAN
BEGIN:VEVENT
UID:ace3a1f6-074c-11eb-a555-0a97d83bc309
DTSTAMP:20201120T223709Z
SUMMARY:PTO General Membership Mtg (Beye)
URL;VALUE=URI:https://www.op97.org/beye/calendar/2418203/pto-general-member
 ship-mtg-beye
DTSTART:20201205T150000Z
DTEND:20201205T164500Z
END:VEVENT
END:VCALENDAR
