BEGIN:VCALENDAR
VERSION:2.0
PRODID:SchoolNow
CALSCALE:GREGORIAN
BEGIN:VEVENT
UID:f703a8bc-074c-11eb-9085-0a97d83bc309
DTSTAMP:20201008T132459Z
SUMMARY:PTO General Membership Mtg (Beye)
URL;VALUE=URI:https://www.op97.org/beye/calendar/2418204/pto-general-member
 ship-mtg-beye-clone
DTSTART:20210123T150000Z
DTEND:20210123T164500Z
END:VEVENT
END:VCALENDAR
