BEGIN:VCALENDAR
VERSION:2.0
PRODID:SchoolNow
CALSCALE:GREGORIAN
BEGIN:VEVENT
UID:23d23304-074d-11eb-a0ce-0a97d83bc309
DTSTAMP:20201005T205545Z
SUMMARY:PTO General Membership Mtg (Beye)
URL;VALUE=URI:https://www.op97.org/beye/calendar/2418205/pto-general-member
 ship-mtg-beye-clone-clone
DTSTART:20210320T140000Z
DTEND:20210320T154500Z
END:VEVENT
END:VCALENDAR
