BEGIN:VCALENDAR
VERSION:2.0
PRODID:SchoolNow
CALSCALE:GREGORIAN
BEGIN:VEVENT
UID:cfa9587e-074d-11eb-a6b8-0a97d83bc309
DTSTAMP:20201005T210034Z
SUMMARY:PTO General Membership Mtg (Beye)
URL;VALUE=URI:https://www.op97.org/beye/calendar/2418219/pto-general-member
 ship-mtg-beye-clone-clone-clone
DTSTART:20210515T140000Z
DTEND:20210515T154500Z
END:VEVENT
END:VCALENDAR
